BEGIN:VCALENDAR
VERSION:2.0
PRODID:-//SORTIR À BESANÇON - ECPv6.15.17.1//NONSGML v1.0//EN
CALSCALE:GREGORIAN
METHOD:PUBLISH
X-WR-CALNAME:SORTIR À BESANÇON
X-ORIGINAL-URL:https://sortir.besancon.fr
X-WR-CALDESC:Évènements pour SORTIR À BESANÇON
REFRESH-INTERVAL;VALUE=DURATION:PT1H
X-Robots-Tag:noindex
X-PUBLISHED-TTL:PT1H
BEGIN:VTIMEZONE
TZID:Europe/Paris
BEGIN:DAYLIGHT
TZOFFSETFROM:+0100
TZOFFSETTO:+0200
TZNAME:CEST
DTSTART:20250330T010000
END:DAYLIGHT
BEGIN:STANDARD
TZOFFSETFROM:+0200
TZOFFSETTO:+0100
TZNAME:CET
DTSTART:20251026T010000
END:STANDARD
BEGIN:DAYLIGHT
TZOFFSETFROM:+0100
TZOFFSETTO:+0200
TZNAME:CEST
DTSTART:20260329T010000
END:DAYLIGHT
BEGIN:STANDARD
TZOFFSETFROM:+0200
TZOFFSETTO:+0100
TZNAME:CET
DTSTART:20261025T010000
END:STANDARD
BEGIN:DAYLIGHT
TZOFFSETFROM:+0100
TZOFFSETTO:+0200
TZNAME:CEST
DTSTART:20270328T010000
END:DAYLIGHT
BEGIN:STANDARD
TZOFFSETFROM:+0200
TZOFFSETTO:+0100
TZNAME:CET
DTSTART:20271031T010000
END:STANDARD
END:VTIMEZONE
BEGIN:VEVENT
DTSTART;TZID=Europe/Paris:20260507T183000
DTEND;TZID=Europe/Paris:20260507T203000
DTSTAMP:20260421T163314
CREATED:20260421T073508Z
LAST-MODIFIED:20260421T073508Z
UID:10034581-1778178600-1778185800@sortir.besancon.fr
SUMMARY:Balade gourmande : à la table de la Citadelle
DESCRIPTION:Que diriez-vous d’une promenade culinaire et historique à la Citadelle ? \nDu moulin au jardin\, en passant par la cour et le rempart\, profitez d’un repas dégustation servi en plusieurs étapes. \nAnecdotes gastronomiques ponctuent votre parcours pour découvrir les habitudes alimentaires du XVIIe siècle. \nLe parcours a été imaginé comme une progression dans la hiérarchie sociale de l’époque de Vauban. \nAu programme :\nVous débuterez votre immersion au moulin\, symbole de la base de l’alimentation populaire\, pour y découvrir l’importance capitale du pain. \nAu fil de la déambulation\, les saveurs s’enrichissent en passant de la simplicité nourricière du pain partagé\, accompagné d’un vin tel qu’on en buvait alors\, jusqu’aux saveurs généreuses d’une tourte de viande évoquant l’animation des rues et des tavernes qui animaient autrefois la place forte. Peu à peu\, les mets gagnent en raffinement : des œufs délicatement relevés aux herbes annoncent l’évolution des goûts\, avant de laisser place à la fraîcheur d’un sorbet au citron\, prisé des tables les plus élégantes. \nEnfin\, la promenade s’achève dans le jardin Vauban\, sur une touche de douceur et d’apparat\, où tartelettes aux fruits\, dragées et fruits confits viennent célébrer le goût du sucre\, marqueur du prestige et du plaisir à la table du Grand Siècle. \nTout au long de la soirée\, la dégustation commentée par Eva du Calice Enchanté\, sera également ponctuée d’anecdotes historiques sur les habitudes alimentaires de l’époque par une médiatrice culturelle de la Citadelle. Cette approche originale permet de redécouvrir le monument\, ses remparts et son jardin sous un angle sensoriel et convivial. \nInfos pratiques :\nLes 7 et 8 mai\, de 18h30 à 20h30 \nDurée : 1h \nTarif : 40 € \nPlaces limitées\, sur réservation \nRDV au Front Saint-Etienne \n 
URL:https://sortir.besancon.fr/evenement/balade-gourmande-a-la-table-de-la-citadelle/2026-05-07/
LOCATION:Citadelle\, 99 rue des Fusillés de la Résistance\, Besançon\, 250000\, France
CATEGORIES:Loisirs,Visites
ATTACH;FMTTYPE=image/jpeg:https://sortir.besancon.fr/wp-content/uploads/2026/04/A-la-talbe-de-la-Citadelle©BenjaminDuchaine-Calice-Enchante-4-1-600x0-c-default.jpg
ORGANIZER;CN="Citadelle de Besan%C3%A7on":MAILTO:contact@citadelle.besancon.fr
END:VEVENT
BEGIN:VEVENT
DTSTART;TZID=Europe/Paris:20260508T183000
DTEND;TZID=Europe/Paris:20260508T203000
DTSTAMP:20260421T163314
CREATED:20260421T073508Z
LAST-MODIFIED:20260421T073508Z
UID:10034582-1778265000-1778272200@sortir.besancon.fr
SUMMARY:Balade gourmande : à la table de la Citadelle
DESCRIPTION:Que diriez-vous d’une promenade culinaire et historique à la Citadelle ? \nDu moulin au jardin\, en passant par la cour et le rempart\, profitez d’un repas dégustation servi en plusieurs étapes. \nAnecdotes gastronomiques ponctuent votre parcours pour découvrir les habitudes alimentaires du XVIIe siècle. \nLe parcours a été imaginé comme une progression dans la hiérarchie sociale de l’époque de Vauban. \nAu programme :\nVous débuterez votre immersion au moulin\, symbole de la base de l’alimentation populaire\, pour y découvrir l’importance capitale du pain. \nAu fil de la déambulation\, les saveurs s’enrichissent en passant de la simplicité nourricière du pain partagé\, accompagné d’un vin tel qu’on en buvait alors\, jusqu’aux saveurs généreuses d’une tourte de viande évoquant l’animation des rues et des tavernes qui animaient autrefois la place forte. Peu à peu\, les mets gagnent en raffinement : des œufs délicatement relevés aux herbes annoncent l’évolution des goûts\, avant de laisser place à la fraîcheur d’un sorbet au citron\, prisé des tables les plus élégantes. \nEnfin\, la promenade s’achève dans le jardin Vauban\, sur une touche de douceur et d’apparat\, où tartelettes aux fruits\, dragées et fruits confits viennent célébrer le goût du sucre\, marqueur du prestige et du plaisir à la table du Grand Siècle. \nTout au long de la soirée\, la dégustation commentée par Eva du Calice Enchanté\, sera également ponctuée d’anecdotes historiques sur les habitudes alimentaires de l’époque par une médiatrice culturelle de la Citadelle. Cette approche originale permet de redécouvrir le monument\, ses remparts et son jardin sous un angle sensoriel et convivial. \nInfos pratiques :\nLes 7 et 8 mai\, de 18h30 à 20h30 \nDurée : 1h \nTarif : 40 € \nPlaces limitées\, sur réservation \nRDV au Front Saint-Etienne \n 
URL:https://sortir.besancon.fr/evenement/balade-gourmande-a-la-table-de-la-citadelle/2026-05-08/
LOCATION:Citadelle\, 99 rue des Fusillés de la Résistance\, Besançon\, 250000\, France
CATEGORIES:Loisirs,Visites
ATTACH;FMTTYPE=image/jpeg:https://sortir.besancon.fr/wp-content/uploads/2026/04/A-la-talbe-de-la-Citadelle©BenjaminDuchaine-Calice-Enchante-4-1-600x0-c-default.jpg
ORGANIZER;CN="Citadelle de Besan%C3%A7on":MAILTO:contact@citadelle.besancon.fr
END:VEVENT
END:VCALENDAR