BEGIN:VCALENDAR
VERSION:2.0
PRODID:-//SORTIR À BESANÇON - ECPv6.15.17.1//NONSGML v1.0//EN
CALSCALE:GREGORIAN
METHOD:PUBLISH
X-WR-CALNAME:SORTIR À BESANÇON
X-ORIGINAL-URL:https://sortir.besancon.fr
X-WR-CALDESC:Évènements pour SORTIR À BESANÇON
REFRESH-INTERVAL;VALUE=DURATION:PT1H
X-Robots-Tag:noindex
X-PUBLISHED-TTL:PT1H
BEGIN:VTIMEZONE
TZID:Europe/Paris
BEGIN:DAYLIGHT
TZOFFSETFROM:+0100
TZOFFSETTO:+0200
TZNAME:CEST
DTSTART:20250330T010000
END:DAYLIGHT
BEGIN:STANDARD
TZOFFSETFROM:+0200
TZOFFSETTO:+0100
TZNAME:CET
DTSTART:20251026T010000
END:STANDARD
BEGIN:DAYLIGHT
TZOFFSETFROM:+0100
TZOFFSETTO:+0200
TZNAME:CEST
DTSTART:20260329T010000
END:DAYLIGHT
BEGIN:STANDARD
TZOFFSETFROM:+0200
TZOFFSETTO:+0100
TZNAME:CET
DTSTART:20261025T010000
END:STANDARD
BEGIN:DAYLIGHT
TZOFFSETFROM:+0100
TZOFFSETTO:+0200
TZNAME:CEST
DTSTART:20270328T010000
END:DAYLIGHT
BEGIN:STANDARD
TZOFFSETFROM:+0200
TZOFFSETTO:+0100
TZNAME:CET
DTSTART:20271031T010000
END:STANDARD
END:VTIMEZONE
BEGIN:VEVENT
DTSTART;TZID=Europe/Paris:20260621T143000
DTEND;TZID=Europe/Paris:20260621T143000
DTSTAMP:20260421T145535
CREATED:20260417T094323Z
LAST-MODIFIED:20260417T094323Z
UID:10034326-1782052200-1782052200@sortir.besancon.fr
SUMMARY:Visite Vieil’art : les secrets de la conservation
DESCRIPTION:Cette visite explore le vieillissement des œuvres à travers le temps\, des peintures aux sculptures en passant par l’archéologie et les objets d’art. Entre conservation préventive\, restauration et altérations naturelles\, découvrez les transformations et les fragilités des collections. Une traversée sensible et scientifique qui révèle les stratégies mises en œuvre pour transmettre ce patrimoine aux générations futures. \nInfos pratiques :\nPour les ados \nLe 21 juin\, le 9 août et le 27 septembre à 14h30 \nDurée : 1h \nTarif : gratuit (hors billet d’entrée) \nSur réservation
URL:https://sortir.besancon.fr/evenement/visite-vieilart-les-secrets-de-la-conservation/2026-06-21/
LOCATION:Musée des Beaux-arts et d’Archéologie\, 1\, place de la Révolution\, Besançon\, 25000\, France
CATEGORIES:Loisirs,Visites
ATTACH;FMTTYPE=image/jpeg:https://sortir.besancon.fr/wp-content/uploads/2024/10/5-2.jpg
END:VEVENT
BEGIN:VEVENT
DTSTART;TZID=Europe/Paris:20260809T143000
DTEND;TZID=Europe/Paris:20260809T143000
DTSTAMP:20260421T145535
CREATED:20260417T094323Z
LAST-MODIFIED:20260417T094323Z
UID:10034327-1786285800-1786285800@sortir.besancon.fr
SUMMARY:Visite Vieil’art : les secrets de la conservation
DESCRIPTION:Cette visite explore le vieillissement des œuvres à travers le temps\, des peintures aux sculptures en passant par l’archéologie et les objets d’art. Entre conservation préventive\, restauration et altérations naturelles\, découvrez les transformations et les fragilités des collections. Une traversée sensible et scientifique qui révèle les stratégies mises en œuvre pour transmettre ce patrimoine aux générations futures. \nInfos pratiques :\nPour les ados \nLe 21 juin\, le 9 août et le 27 septembre à 14h30 \nDurée : 1h \nTarif : gratuit (hors billet d’entrée) \nSur réservation
URL:https://sortir.besancon.fr/evenement/visite-vieilart-les-secrets-de-la-conservation/2026-08-09/
LOCATION:Musée des Beaux-arts et d’Archéologie\, 1\, place de la Révolution\, Besançon\, 25000\, France
CATEGORIES:Loisirs,Visites
ATTACH;FMTTYPE=image/jpeg:https://sortir.besancon.fr/wp-content/uploads/2024/10/5-2.jpg
END:VEVENT
END:VCALENDAR