BEGIN:VCALENDAR
VERSION:2.0
PRODID:-//SORTIR À BESANÇON - ECPv6.15.17.1//NONSGML v1.0//EN
CALSCALE:GREGORIAN
METHOD:PUBLISH
X-WR-CALNAME:SORTIR À BESANÇON
X-ORIGINAL-URL:https://sortir.besancon.fr
X-WR-CALDESC:Évènements pour SORTIR À BESANÇON
REFRESH-INTERVAL;VALUE=DURATION:PT1H
X-Robots-Tag:noindex
X-PUBLISHED-TTL:PT1H
BEGIN:VTIMEZONE
TZID:Europe/Paris
BEGIN:DAYLIGHT
TZOFFSETFROM:+0100
TZOFFSETTO:+0200
TZNAME:CEST
DTSTART:20250330T010000
END:DAYLIGHT
BEGIN:STANDARD
TZOFFSETFROM:+0200
TZOFFSETTO:+0100
TZNAME:CET
DTSTART:20251026T010000
END:STANDARD
BEGIN:DAYLIGHT
TZOFFSETFROM:+0100
TZOFFSETTO:+0200
TZNAME:CEST
DTSTART:20260329T010000
END:DAYLIGHT
BEGIN:STANDARD
TZOFFSETFROM:+0200
TZOFFSETTO:+0100
TZNAME:CET
DTSTART:20261025T010000
END:STANDARD
BEGIN:DAYLIGHT
TZOFFSETFROM:+0100
TZOFFSETTO:+0200
TZNAME:CEST
DTSTART:20270328T010000
END:DAYLIGHT
BEGIN:STANDARD
TZOFFSETFROM:+0200
TZOFFSETTO:+0100
TZNAME:CET
DTSTART:20271031T010000
END:STANDARD
END:VTIMEZONE
BEGIN:VEVENT
DTSTART;TZID=Europe/Paris:20260424T203000
DTEND;TZID=Europe/Paris:20260424T203000
DTSTAMP:20260421T115116
CREATED:20260409T091907Z
LAST-MODIFIED:20260409T091907Z
UID:10034051-1777062600-1777062600@sortir.besancon.fr
SUMMARY:Pourquoi moi ! ?
DESCRIPTION:La troupe des Montoillots vous présente la pièce « Pourquoi moi !? » à la salle polyvalente de Deluz les vendredi 24 avril 2026 à 20h30 et le dimanche 26 avril 2026 à 15h00. \nRetenez bien vos places pour assister à une représentation épatante de la troupe des Montoillots !! Rires garantis.\nCette comédie irrésistible qui va crescendo\, est menée comme une intrigue policière\nAristide a trompé sa femme. Chassé du domicile conjugal\, il emménage dans l’immeuble d’en face. Dès le premier soir alors qu’il est dans ses cartons\, ses nouveaux voisins font irruption dans son nouvel appartement… Alors qu’il essaye de trouver un moyen de reconquérir sa femme Caroline\, Aristide se trouve confronté aux problèmes de ses voisins : une prostituée\, un proxo\, un couple de pseudo-aristo et un concierge… En voulant les aider\, tout finit par se retourner contre lui. Et il voit en face sa femme avec un autre homme. De plus il apprend que l’ancien locataire a peut-être été assassiné\, un cauchemar éveillé. \nRéservations souhaitées sur hello Asso via le lien https://www.helloasso.com/associations/association-sportive-culture-loisirs-deluz-section-theatre ou au 03 81 63 21 36 ou 06 84 00 71 52
URL:https://sortir.besancon.fr/evenement/pourquoi-moi/2026-04-24/
LOCATION:Salle polyvalente Deluz\, Salle polyvalente Deluz - rue de la poste\, deluz\, 25960\, France
CATEGORIES:Spectacle
ATTACH;FMTTYPE=image/jpeg:https://sortir.besancon.fr/wp-content/uploads/2026/04/pourquoi-moi-piece-d-olivier-lejeune.jpeg
END:VEVENT
BEGIN:VEVENT
DTSTART;TZID=Europe/Paris:20260426T150000
DTEND;TZID=Europe/Paris:20260426T150000
DTSTAMP:20260421T115116
CREATED:20260409T091907Z
LAST-MODIFIED:20260409T091907Z
UID:10034103-1777215600-1777215600@sortir.besancon.fr
SUMMARY:Pourquoi moi ! ?
DESCRIPTION:La troupe des Montoillots vous présente la pièce « Pourquoi moi !? » à la salle polyvalente de Deluz les vendredi 24 avril 2026 à 20h30 et le dimanche 26 avril 2026 à 15h00. \nRetenez bien vos places pour assister à une représentation épatante de la troupe des Montoillots !! Rires garantis.\nCette comédie irrésistible qui va crescendo\, est menée comme une intrigue policière\nAristide a trompé sa femme. Chassé du domicile conjugal\, il emménage dans l’immeuble d’en face. Dès le premier soir alors qu’il est dans ses cartons\, ses nouveaux voisins font irruption dans son nouvel appartement… Alors qu’il essaye de trouver un moyen de reconquérir sa femme Caroline\, Aristide se trouve confronté aux problèmes de ses voisins : une prostituée\, un proxo\, un couple de pseudo-aristo et un concierge… En voulant les aider\, tout finit par se retourner contre lui. Et il voit en face sa femme avec un autre homme. De plus il apprend que l’ancien locataire a peut-être été assassiné\, un cauchemar éveillé. \nRéservations souhaitées sur hello Asso via le lien https://www.helloasso.com/associations/association-sportive-culture-loisirs-deluz-section-theatre ou au 03 81 63 21 36 ou 06 84 00 71 52
URL:https://sortir.besancon.fr/evenement/pourquoi-moi/2026-04-26/
LOCATION:Salle polyvalente Deluz\, Salle polyvalente Deluz - rue de la poste\, deluz\, 25960\, France
CATEGORIES:Spectacle
ATTACH;FMTTYPE=image/jpeg:https://sortir.besancon.fr/wp-content/uploads/2026/04/pourquoi-moi-piece-d-olivier-lejeune.jpeg
END:VEVENT
END:VCALENDAR