BEGIN:VCALENDAR
VERSION:2.0
PRODID:-//SORTIR À BESANÇON - ECPv6.15.17.1//NONSGML v1.0//EN
CALSCALE:GREGORIAN
METHOD:PUBLISH
X-WR-CALNAME:SORTIR À BESANÇON
X-ORIGINAL-URL:https://sortir.besancon.fr
X-WR-CALDESC:Évènements pour SORTIR À BESANÇON
REFRESH-INTERVAL;VALUE=DURATION:PT1H
X-Robots-Tag:noindex
X-PUBLISHED-TTL:PT1H
BEGIN:VTIMEZONE
TZID:Europe/Paris
BEGIN:DAYLIGHT
TZOFFSETFROM:+0100
TZOFFSETTO:+0200
TZNAME:CEST
DTSTART:20250330T010000
END:DAYLIGHT
BEGIN:STANDARD
TZOFFSETFROM:+0200
TZOFFSETTO:+0100
TZNAME:CET
DTSTART:20251026T010000
END:STANDARD
BEGIN:DAYLIGHT
TZOFFSETFROM:+0100
TZOFFSETTO:+0200
TZNAME:CEST
DTSTART:20260329T010000
END:DAYLIGHT
BEGIN:STANDARD
TZOFFSETFROM:+0200
TZOFFSETTO:+0100
TZNAME:CET
DTSTART:20261025T010000
END:STANDARD
BEGIN:DAYLIGHT
TZOFFSETFROM:+0100
TZOFFSETTO:+0200
TZNAME:CEST
DTSTART:20270328T010000
END:DAYLIGHT
BEGIN:STANDARD
TZOFFSETFROM:+0200
TZOFFSETTO:+0100
TZNAME:CET
DTSTART:20271031T010000
END:STANDARD
END:VTIMEZONE
BEGIN:VEVENT
DTSTART;TZID=Europe/Paris:20260429T200000
DTEND;TZID=Europe/Paris:20260429T200000
DTSTAMP:20260419T162330
CREATED:20260407T081306Z
LAST-MODIFIED:20260407T081306Z
UID:10034066-1777492800-1777492800@sortir.besancon.fr
SUMMARY:Mercredis Comedy Show
DESCRIPTION:Tous les derniers mercredis de chaque mois venez rire : un peu\, beaucoup\, passionnément … \nUne soirée de détente pour découvrir de nouveau one (wo)man show\, plateau d’humour\, qu’est-ce que vous attendez venez passer une soirée avec les nouveaux talents du rire\, présenté par notre humoriste local Vivien PIANET. \n\n\n\n\n\nInfos pratiques :\nLe 29 avril\, 27 mai\, 24 juin à 20h \nTarifs : du 13 au 14 € \n \n 
URL:https://sortir.besancon.fr/evenement/mercredis-comedy-show/2026-04-29/
LOCATION:La Comédie de Besançon\, 4\, rue de la Convention\, Besançon\, 25000\, France
CATEGORIES:Spectacle
ATTACH;FMTTYPE=image/jpeg:https://sortir.besancon.fr/wp-content/uploads/2026/04/45.jpg
ORGANIZER;CN="La Com%C3%A9die de Besan%C3%A7on":MAILTO:comediedebesancon@gmail.c
END:VEVENT
BEGIN:VEVENT
DTSTART;TZID=Europe/Paris:20260527T200000
DTEND;TZID=Europe/Paris:20260527T200000
DTSTAMP:20260419T162330
CREATED:20260407T081306Z
LAST-MODIFIED:20260407T081306Z
UID:10034067-1779912000-1779912000@sortir.besancon.fr
SUMMARY:Mercredis Comedy Show
DESCRIPTION:Tous les derniers mercredis de chaque mois venez rire : un peu\, beaucoup\, passionnément … \nUne soirée de détente pour découvrir de nouveau one (wo)man show\, plateau d’humour\, qu’est-ce que vous attendez venez passer une soirée avec les nouveaux talents du rire\, présenté par notre humoriste local Vivien PIANET. \n\n\n\n\n\nInfos pratiques :\nLe 29 avril\, 27 mai\, 24 juin à 20h \nTarifs : du 13 au 14 € \n \n 
URL:https://sortir.besancon.fr/evenement/mercredis-comedy-show/2026-05-27/
LOCATION:La Comédie de Besançon\, 4\, rue de la Convention\, Besançon\, 25000\, France
CATEGORIES:Spectacle
ATTACH;FMTTYPE=image/jpeg:https://sortir.besancon.fr/wp-content/uploads/2026/04/45.jpg
ORGANIZER;CN="La Com%C3%A9die de Besan%C3%A7on":MAILTO:comediedebesancon@gmail.c
END:VEVENT
BEGIN:VEVENT
DTSTART;TZID=Europe/Paris:20260624T200000
DTEND;TZID=Europe/Paris:20260624T200000
DTSTAMP:20260419T162330
CREATED:20260407T081306Z
LAST-MODIFIED:20260407T081306Z
UID:10034068-1782331200-1782331200@sortir.besancon.fr
SUMMARY:Mercredis Comedy Show
DESCRIPTION:Tous les derniers mercredis de chaque mois venez rire : un peu\, beaucoup\, passionnément … \nUne soirée de détente pour découvrir de nouveau one (wo)man show\, plateau d’humour\, qu’est-ce que vous attendez venez passer une soirée avec les nouveaux talents du rire\, présenté par notre humoriste local Vivien PIANET. \n\n\n\n\n\nInfos pratiques :\nLe 29 avril\, 27 mai\, 24 juin à 20h \nTarifs : du 13 au 14 € \n \n 
URL:https://sortir.besancon.fr/evenement/mercredis-comedy-show/2026-06-24/
LOCATION:La Comédie de Besançon\, 4\, rue de la Convention\, Besançon\, 25000\, France
CATEGORIES:Spectacle
ATTACH;FMTTYPE=image/jpeg:https://sortir.besancon.fr/wp-content/uploads/2026/04/45.jpg
ORGANIZER;CN="La Com%C3%A9die de Besan%C3%A7on":MAILTO:comediedebesancon@gmail.c
END:VEVENT
END:VCALENDAR