BEGIN:VCALENDAR
VERSION:2.0
PRODID:-//SORTIR À BESANÇON - ECPv6.15.17.1//NONSGML v1.0//EN
CALSCALE:GREGORIAN
METHOD:PUBLISH
X-WR-CALNAME:SORTIR À BESANÇON
X-ORIGINAL-URL:https://sortir.besancon.fr
X-WR-CALDESC:Évènements pour SORTIR À BESANÇON
REFRESH-INTERVAL;VALUE=DURATION:PT1H
X-Robots-Tag:noindex
X-PUBLISHED-TTL:PT1H
BEGIN:VTIMEZONE
TZID:Europe/Paris
BEGIN:DAYLIGHT
TZOFFSETFROM:+0100
TZOFFSETTO:+0200
TZNAME:CEST
DTSTART:20250330T010000
END:DAYLIGHT
BEGIN:STANDARD
TZOFFSETFROM:+0200
TZOFFSETTO:+0100
TZNAME:CET
DTSTART:20251026T010000
END:STANDARD
BEGIN:DAYLIGHT
TZOFFSETFROM:+0100
TZOFFSETTO:+0200
TZNAME:CEST
DTSTART:20260329T010000
END:DAYLIGHT
BEGIN:STANDARD
TZOFFSETFROM:+0200
TZOFFSETTO:+0100
TZNAME:CET
DTSTART:20261025T010000
END:STANDARD
BEGIN:DAYLIGHT
TZOFFSETFROM:+0100
TZOFFSETTO:+0200
TZNAME:CEST
DTSTART:20270328T010000
END:DAYLIGHT
BEGIN:STANDARD
TZOFFSETFROM:+0200
TZOFFSETTO:+0100
TZNAME:CET
DTSTART:20271031T010000
END:STANDARD
END:VTIMEZONE
BEGIN:VEVENT
DTSTART;TZID=Europe/Paris:20260502T110000
DTEND;TZID=Europe/Paris:20260502T110000
DTSTAMP:20260419T174913
CREATED:20260406T082638Z
LAST-MODIFIED:20260406T082638Z
UID:10034056-1777719600-1777719600@sortir.besancon.fr
SUMMARY:Alberville + Création Carto Electro
DESCRIPTION:Pensé comme un véritable moment à partager en famille\, ce rendez-vous propose une expérience live accessible à toutes et tous\, mêlant découverte et plaisir du concert ! \nSur scène\, le groupe Alberville déploie une pop électronique sensible et immersive\, entre boîtes à rythmes\, synthétiseurs et voix enveloppante. Une musique à la fois douce et mouvante\, qui invite à se laisser porter\, petit·es et grand·es\, dans des paysages sonores inattendus. \nCette journée est aussi l’occasion de découvrir en première partie le travail d’enregistrement et de composition mené tout au long de l’année par des élèves de CM1/CM2 pour le projet Carto Électro : la musique électronique de ton école. \n\n\nAlberville\nCaché sous des anoraks\, chauffé au propane\, Alberville compose la bande-son d’un rêve en constante évolution. Le trio navigue entre rythmiques électroniques\, nappes de synthétiseurs et textes-paysages\, brouillant les frontières de la pop traditionnelle. Leurs morceaux avancent comme des traversées\, entre refrains entêtants et détours plus expérimentaux\, dessinant une musique à la fois délicate et imprévisible\, douce et presque dangereuse\, comme une neige en mouvement. \n\n\n\n\nCarto Électro – la musique électronique de ton école\nMené avec le collectif Bruit Marron\, le projet Carto Électro a permis à plusieurs classes de CM1/CM2 de plonger dans l’univers de la création sonore. De l’enregistrement à la composition\, les élèves ont exploré différentes façons de fabriquer de la musique électronique et de créer des paysages sonores. Cette restitution est l’aboutissement de ce parcours\, offrant au public un aperçu de leurs expérimentations et de leur créativité. \nInfos pratiques :\nLe 2 mai \n2 sessions : 11h + 15h\n5€/personne (parents/enfants)\nBuvette + petit goûté sur place \n 
URL:https://sortir.besancon.fr/evenement/alberville-creation-carto-electro/2026-05-02/1/
LOCATION:Le Bastion\, 16 avenue Arthur Gaulard\, Besançon\, 25000
CATEGORIES:Loisirs
ATTACH;FMTTYPE=image/jpeg:https://sortir.besancon.fr/wp-content/uploads/2026/04/662605539_1376851407809571_7264316520376275916_n.jpg
ORGANIZER;CN="Association le Bastion":MAILTO:reservation@lebastion.org
END:VEVENT
BEGIN:VEVENT
DTSTART;TZID=Europe/Paris:20260502T150000
DTEND;TZID=Europe/Paris:20260502T150000
DTSTAMP:20260419T174913
CREATED:20260406T082638Z
LAST-MODIFIED:20260406T082638Z
UID:10034057-1777734000-1777734000@sortir.besancon.fr
SUMMARY:Alberville + Création Carto Electro
DESCRIPTION:Pensé comme un véritable moment à partager en famille\, ce rendez-vous propose une expérience live accessible à toutes et tous\, mêlant découverte et plaisir du concert ! \nSur scène\, le groupe Alberville déploie une pop électronique sensible et immersive\, entre boîtes à rythmes\, synthétiseurs et voix enveloppante. Une musique à la fois douce et mouvante\, qui invite à se laisser porter\, petit·es et grand·es\, dans des paysages sonores inattendus. \nCette journée est aussi l’occasion de découvrir en première partie le travail d’enregistrement et de composition mené tout au long de l’année par des élèves de CM1/CM2 pour le projet Carto Électro : la musique électronique de ton école. \n\n\nAlberville\nCaché sous des anoraks\, chauffé au propane\, Alberville compose la bande-son d’un rêve en constante évolution. Le trio navigue entre rythmiques électroniques\, nappes de synthétiseurs et textes-paysages\, brouillant les frontières de la pop traditionnelle. Leurs morceaux avancent comme des traversées\, entre refrains entêtants et détours plus expérimentaux\, dessinant une musique à la fois délicate et imprévisible\, douce et presque dangereuse\, comme une neige en mouvement. \n\n\n\n\nCarto Électro – la musique électronique de ton école\nMené avec le collectif Bruit Marron\, le projet Carto Électro a permis à plusieurs classes de CM1/CM2 de plonger dans l’univers de la création sonore. De l’enregistrement à la composition\, les élèves ont exploré différentes façons de fabriquer de la musique électronique et de créer des paysages sonores. Cette restitution est l’aboutissement de ce parcours\, offrant au public un aperçu de leurs expérimentations et de leur créativité. \nInfos pratiques :\nLe 2 mai \n2 sessions : 11h + 15h\n5€/personne (parents/enfants)\nBuvette + petit goûté sur place \n 
URL:https://sortir.besancon.fr/evenement/alberville-creation-carto-electro/2026-05-02/2/
LOCATION:Le Bastion\, 16 avenue Arthur Gaulard\, Besançon\, 25000
CATEGORIES:Loisirs
ATTACH;FMTTYPE=image/jpeg:https://sortir.besancon.fr/wp-content/uploads/2026/04/662605539_1376851407809571_7264316520376275916_n.jpg
ORGANIZER;CN="Association le Bastion":MAILTO:reservation@lebastion.org
END:VEVENT
END:VCALENDAR